{"text_format":"3","workbook":"xlsx","n_sheets":8,"sheets":["σ","c1","φ","List","formulas","Корпус","Штуцери","Розрахунок"],"not_rendered":{"images":6,"defined_names":7},"read":"whole","date_system":"1900"}

{"sheet":"σ","index":0,"n_rows":44,"n_cols":7,"rows_kept":44}
["Сталь","Розрахункова температура стінки посудини, оС ","Індекс пошуку","Допустиме напруження, МПа (σ)"]
["20, 20К",20,{"$f":"CONCATENATE(A2,B2)","v":"20, 20К20"},147]
["20, 20К",30,{"$f":"CONCATENATE(A3,B3)","v":"20, 20К30"},146.375]
["20, 20К",40,"20, 20К40",145.75]
["20, 20К",50,"20, 20К50",145.125,null,null,"При внесенні нових даних, необхідно дотримуватися кроку розрахункової температури в 10 оС"]
["20, 20К",60,"20, 20К60",144.5]
["20, 20К",70,"20, 20К70",143.875]
["20, 20К",80,"20, 20К80",143.25]
["20, 20К",90,"20, 20К90",142.625]
["20, 20К",100,"20, 20К100",142]
["20, 20К",110,"20, 20К110",141.4]
["20, 20К",120,"20, 20К120",140.8]
["20, 20К",130,"20, 20К130",140.20000000000002]
["20, 20К",140,"20, 20К140",139.60000000000002]
["20, 20К",150,"20, 20К150",139]
["20, 20К",160,"20, 20К160",138.4]
["20, 20К",170,"20, 20К170",137.8]
["20, 20К",180,"20, 20К180",137.20000000000002]
["20, 20К",190,"20, 20К190",136.60000000000002]
["20, 20К",200,"20, 20К200",136]
["20, 20К",210,"20, 20К210",135.2]
["20, 20К",220,"20, 20К220",134.39999999999998]
["20, 20К",230,"20, 20К230",133.59999999999997]
["20, 20К",240,"20, 20К240",132.79999999999995]
["20, 20К",250,"20, 20К250",132]
["20, 20К",260,"20, 20К260",129.4]
["20, 20К",270,"20, 20К270",126.80000000000001]
["20, 20К",280,"20, 20К280",124.20000000000002]
["20, 20К",290,"20, 20К290",121.60000000000002]
["20, 20К",300,"20, 20К300",119]
["20, 20К",350,"20, 20К350",106]
["20, 20К",360,"20, 20К360",103.3]
["20, 20К",370,"20, 20К370",100.6]
["20, 20К",375,"20, 20К375",98]
["20, 20К",380,"20, 20К380",96]
["20, 20К",390,"20, 20К390",94]
["20, 20К",400,"20, 20К400",92]
["20, 20К",410,"20, 20К410",86]
["20, 20К",420,"20, 20К420",80]
["20, 20К",430,"20, 20К430",75]
["20, 20К",440,"20, 20К440",67]
["20, 20К",450,"20, 20К450",61]
["20, 20К",460,"20, 20К460",55]
["20, 20К",470,"20, 20К470",49]

{"sheet":"c1","index":1,"n_rows":7,"n_cols":5,"rows_kept":7,"merged":[[0,1,0,4]]}
[null,"Прибавка на компенсацію корозії (ерозії) відповідно до РД 10-249-98\n"]
[null,"Середовище","Труби діаметром до 32 мм","Труби (обичайки) діаметром від 32 до 76 мм включно","більше 76 мм"]
[null,"вода",0,0.5,1]
[null,"насичена водяна пара",0,0.5,1]
[null,"перегріта водяна пара",0,0.3,0.5]
[null,"водяна пара надкритичних параметрів",0,0,0.3]
[null,"суміш води та водяної пари",0,0.5,1]

{"sheet":"φ","index":2,"n_rows":7,"n_cols":4,"rows_kept":7}
[null,"Вид зварного з'єднання",{"v":1,"d":"100%"},{"v":0.5,"d":"50%"}]
[null,"Стиковий з двохстороннім проваром",1,0.9]
[null,"Стиковий односторонній",0.9,0.8]
[null,"Стиковий односторонній (ручне зварювання)",0.9,0.65]
[]
[]
[null," ГОСТ 14249-89"]

{"sheet":"List","index":3,"n_rows":18,"n_cols":10,"rows_kept":18,"hidden":true}
["Сталь",null,"Середовище",null,"DN",null,"Елемент корпусу",null,"Розташування штуцера"]
["ВСт3",null,"вода",null,10,null,"обичайка",null,"1 - Вісь штуцера співпадає з нормаллю до поверхні в центрі отвору",1]
["09Г2С",null,"насичена водяна пара",null,15,null,"днище 1",null,"2 - Вісь штуцера лежить у площині поперечного перерізу обичайки",2]
["16ГС",null,"перегріта водяна пара",null,20,null,"днище 2",null,"3 - Зміщенний штуцер на днищі",3]
["20, 20К",null,"водяна пара надкритичних параметрів",null,25]
[10,null,"суміш води та водяної пари",null,32]
["10Г2, 09Г2",{"$nulls":3},40]
["17ГС, 17Г1С, 10Г2С1",{"$nulls":3},50]
["12ХМ",{"$nulls":3},65]
["12МХ",{"$nulls":3},80]
["15ХМ",{"$nulls":3},90]
["15Х5М",{"$nulls":3},100]
["15Х5М-У",{"$nulls":3},125]
["03Х21Н21М4ГБ",{"$nulls":3},150]
["03Х18Н11",{"$nulls":3},160]
["03X17H14M3",{"$nulls":3},200]
["08Х18Н10Т, 08Х18Н12Т, 08Х17Н13М2Т, 08Х17Н15МЗТ",{"$nulls":3},225]
["12Х18Н10Т, 12Х18Н12Т, 10Х17Н13М2Т, 10X17H13M3T",{"$nulls":3},250]

{"sheet":"formulas","index":4,"n_rows":16,"n_cols":4,"rows_kept":16,"hidden":true}
[null,"Найменування","Одиниця виміру","Значення"]
[null,"Обичайка"]
[null,"Умова застосування розрахункових формул","-",{"$f":"ROUND((Корпус!C16-Розрахунок!I78)/Розрахунок!I61,2)","v":{"$error":"#N/A"}}]
[null,"Товщина стінки обичайки розрахункова","мм",{"$f":"ROUND((Розрахунок!I64*Розрахунок!I61/(20*Розрахунок!I69*Розрахунок!I71-Розрахунок!I64/10)),2)","v":{"$error":"#N/A"}}]
[null,"Коефіцієнт запасу міцності","-",{"$f":"ROUND(Корпус!C16/(Розрахунок!I64*Розрахунок!I61/(20*Розрахунок!I69*Розрахунок!I71-Розрахунок!I64/10)+Розрахунок!I78),2)","v":{"$error":"#N/A"}}]
[null,"Допустимий внутрішній надлишковий тиск","бар",{"$f":"ROUND(20*Розрахунок!I69*Розрахунок!I71*(Корпус!C16-Розрахунок!I78)/(Розрахунок!I61+Корпус!C16-Розрахунок!I78),2)","v":{"$error":"#N/A"}}]
[]
[null,"Днище"]
[null,"Умова застосування розрахункових формул","-",{"$f":"ROUND((Корпус!C20-Розрахунок!I84)/Розрахунок!I61,2)","v":{"$error":"#N/A"}}]
[null,"Товщина стінки днища розрахункова","мм",{"$f":"ROUND(Розрахунок!I64*Розрахунок!I62/(20*Розрахунок!I70*Розрахунок!I71-0.5*Розрахунок!I64/10),2)","v":{"$error":"#N/A"}}]
[null,"Коефіцієнт запасу міцності","-",{"$f":"ROUND(Корпус!C20/(Розрахунок!I64*Розрахунок!I62/(20*Розрахунок!I70*Розрахунок!I71-Розрахунок!I64/10)+Розрахунок!I84),2)","v":{"$error":"#N/A"}}]
[null,"Допустимий внутрішній надлишковий тиск","бар",{"$f":"ROUND(20*(Корпус!C20-Розрахунок!I84)*Розрахунок!I71*Розрахунок!I70/(Розрахунок!I62+0.5*(Корпус!C20-Розрахунок!I84)),2)","v":{"$error":"#N/A"}}]
[]
[null,"Розрахункові діаметри"]
[null,"Циліндричної обичайки","мм",{"$f":"Корпус!C15-2*Корпус!C16","v":0}]
[null,"Еліптичного днища (Н=0,25D)","мм",{"$f":"2*(Корпус!C19-2*Корпус!C20)","v":0}]

{"sheet":"Корпус","index":5,"n_rows":36,"n_cols":11,"rows_kept":36,"merged":[[10,10,12,19]]}
[null,"Характеристика",null,"Примітка/Пояснення"]
[null,"Загальні"]
[null,"Найменування обладнання"]
[null,"Скорочене найменування обладнання ",null,"для вставки в тект розрахунку"]
[null,"Місто"]
[null,"Рік розрахунку"]
[]
[null,"Фізичні"]
[null,"Розрахункова температура (t), оС",null,"Найбільше значення температури стінки в процесі роботи обладнання"]
[null,"Робочий тиск (Рроб) , бар",null,"Максимальний внутрішній надлишковий тиск, який виникає при нормальному протіканні процесу"]
[null,"Розрахунковий тиск, бар (p)",null,"Проводиться розрахунок на міцність. Більший або рівний робочому. Як правило, можна приймати на 1 бар більшим за робочий, якщо інше не обгрунтовано досвідом експлуатації",{"$nulls":6},"Розрахунок виконується лише у разі застосування еліптичного днища та гладкої циліндричної обичайки. У іншому випадку необхідно або виконати розрахунок самостійно, або за допомогою інших програм чи методів, або внести відповідні зміни в даний файл (31.01.2020)"]
[null,"Середовище",null,"Вибір із випадаючого списку"]
[]
[null,"Конструктивні"]
[null,"Зовнішній діаметр обичайки (Dз), мм"]
[null,"Товщина стінки обичайки (s), мм"]
[null,"Матеріал обичайки",null,"Вибір із випадаючого списку"]
[]
[null,"Зовнішній діаметр днища (Dз), мм"]
[null,"Товщина стінки днища (s), мм"]
[null,"Матеріал днища",null,"Вибір із випадаючого списку"]
[]
[null,"Зварне з'єднання обичайки і днища",null,"Вибір із випадаючого списку"]
[null,"Який об'єм котролю зварного з'єднання буде проведено (100%/50%)",null,"Вибір із випадаючого списку"]
[]
[]
[null,"Прибавки для компенсації товщин стінок"]
[null,"Обичайка"]
[null,"с1 - прибавка для компенсації корозії, мм",null,"Необов'язкове поле.\nПримітка: Якщо параметр невідомий, то буде автоматично розрахована дана прибавка відповідно до РД 10-249-98 із врахуванням діаметру труби та середовища."]
[null,"с2 - прибавка для компенсації міносового допуску, мм",null,"Необов'язкове поле.\nПримітка: Якщо параметр невідомий, то буде автоматично розрахована дана прибавка відповідно до ГОСТ 8732-78 для труб бесшовних звичайної точності виготовлення із врахуванням товщини стінки"]
[null,"с3 - прибавка для компенсації технологічного оброблення деталі, мм",null,"Необов'язкове поле.\nПримітка: Якщо параметр невідомий, то автоматично приймається відсутність технологічного оброблення обичайки"]
[]
[null,"Днище"]
[null,"с1 - прибавка для компенсації корозії, мм",null,"Необов'язкове поле.\nПримітка: Якщо параметр невідомий, то буде автоматично розрахована дана прибавка відповідно до РД 10-249-98 із врахуванням діаметру труби та середовища."]
[null,"с2 - прибавка для компенсації міносового допуску, мм",null,"Необов'язкове поле.\nПримітка: Приймати в залежності від товщини стінки відповідно до ГОСТ 19903-74. Якщо поле залишити порожнім, то автоматично приймається прибавка 0,8 мм - максимальне мінусове відхилення від товщини листа 7,5-12 мм."]
[null,"с3 - прибавка для компенсації технологічного оброблення деталі, мм",null,"Необов'язкове поле.\nПримітка: Якщо значення невідоме, то приймається, що днище виготовлено штамповкою."]

{"sheet":"Штуцери","index":6,"n_rows":31,"n_cols":24,"rows_kept":31,"merged":[[0,6,0,8]]}
[{"$nulls":6},"Прибавки до товщини стінки"]
["№\nштуцера","Умовний діаметр DN, мм","Зовнішній діаметр, мм","Товщина стінки, мм","Метал штуцера","Середовище","Прибавка для компенсації корозії (ерозії) с1, мм","Прибавка для компенсації мінусового допуску с2, мм","Прибавка для компенсації утоншення стінки при технологічних операціях с3, мм","Елемент корпусу","Коефіцієнт міцності зварного шва","Розташування штуцера","Зміщення штуцера відносно осі обичайки/днища х, мм","Довжина отвору в окружному напрямі (див. А.11 б,г), t\nВизначається за кресленнями",null,"Для розрахунків","Внутрішній діаметр, мм","Розрахунковий діаметр, мм","Внутрішній діаметр елемента (обичайка/днище)","Загальна прибавка до товщини стінки елемента (обичайка/днище) с, мм","Товщина стінки елемента (обичайка/днище), мм",{"$f":"Розрахунок!I134","v":"Умови застосування розрахункових вормул"},"Додатковий","Допустиме напруження сталі штуцера, Мпа"]
[1,{"$nulls":5},{"$f":"IF(C3<32,0,IF(C3>76,VLOOKUP(F3,'c1'!B:E,4,FALSE),VLOOKUP(F3,'c1'!B:E,3,FALSE)))","v":0},{"$f":"15%*D3","v":0},{"$nulls":7},{"$f":"IFERROR(VLOOKUP(L3,List!I:J,2,FALSE),0)","v":0},{"$f":"C3-2*D3","v":0},{"$f":"IF(P3=3,(Q3+2*(G3+H3+I3))/SQRT(1-4*M3*M3/((Корпус!$C$19-2*Корпус!$C$20)*(Корпус!$C$19-2*Корпус!$C$20))),MAX(Штуцери!Q3,0.5*Штуцери!N3)+2*(Штуцери!G3+Штуцери!H3+Штуцери!I3))","v":0},{"$f":"IF(J3=\"\",0,IF(J3=List!$G$2,Корпус!$C$15-2*Корпус!$C$16,Корпус!$C$19-2*Корпус!$C$20))","v":0},{"$f":"IF(J3=Розрахунок!$A$74,Розрахунок!$I$78,IF(J3=Розрахунок!$A$80,Розрахунок!$I$84,0))","v":0},{"$f":"IF(J3=Розрахунок!$A$74,Корпус!$C$16,IF(J3=Розрахунок!$A$80,Корпус!$C$20,0))","v":0},{"$f":"Розрахунок!I135","v":""},{"$f":"IF(OR(V3=\"Виконується\",V3=\"\"),1,0)","v":1},{"$f":"IFERROR(VLOOKUP(CONCATENATE(E3,10*ROUND(Корпус!$C$9/10,0)),σ!C:D,2,FALSE),0)","v":0}]
[2,{"$nulls":5},{"$f":"IF(C4<32,0,IF(C4>76,VLOOKUP(F4,'c1'!B:E,4,FALSE),VLOOKUP(F4,'c1'!B:E,3,FALSE)))","v":0},{"$f":"15%*D4","v":0},{"$nulls":7},{"$f":"IFERROR(VLOOKUP(L4,List!I:J,2,FALSE),0)","v":0},{"$f":"C4-2*D4","v":0},{"$f":"IF(P4=3,(Q4+2*(G4+H4+I4))/SQRT(1-4*M4*M4/((Корпус!$C$19-2*Корпус!$C$20)*(Корпус!$C$19-2*Корпус!$C$20))),MAX(Штуцери!Q4,0.5*Штуцери!N4)+2*(Штуцери!G4+Штуцери!H4+Штуцери!I4))","v":0},{"$f":"IF(J4=\"\",0,IF(J4=List!$G$2,Корпус!$C$15-2*Корпус!$C$16,Корпус!$C$19-2*Корпус!$C$20))","v":0},{"$f":"IF(J4=Розрахунок!$A$74,Розрахунок!$I$78,IF(J4=Розрахунок!$A$80,Розрахунок!$I$84,0))","v":0},{"$f":"IF(J4=Розрахунок!$A$74,Корпус!$C$16,IF(J4=Розрахунок!$A$80,Корпус!$C$20,0))","v":0},{"$f":"Розрахунок!I136","v":""},{"$f":"IF(OR(V4=\"Виконується\",V4=\"\"),1,0)","v":1},{"$f":"IFERROR(VLOOKUP(CONCATENATE(E4,10*ROUND(Корпус!$C$9/10,0)),σ!C:D,2,FALSE),0)","v":0}]
[3,{"$nulls":5},{"$f":"IF(C5<32,0,IF(C5>76,VLOOKUP(F5,'c1'!B:E,4,FALSE),VLOOKUP(F5,'c1'!B:E,3,FALSE)))","v":0},0,{"$nulls":7},{"$f":"IFERROR(VLOOKUP(L5,List!I:J,2,FALSE),0)","v":0},0,{"$f":"IF(P5=3,(Q5+2*(G5+H5+I5))/SQRT(1-4*M5*M5/((Корпус!$C$19-2*Корпус!$C$20)*(Корпус!$C$19-2*Корпус!$C$20))),MAX(Штуцери!Q5,0.5*Штуцери!N5)+2*(Штуцери!G5+Штуцери!H5+Штуцери!I5))","v":0},{"$f":"IF(J5=\"\",0,IF(J5=List!$G$2,Корпус!$C$15-2*Корпус!$C$16,Корпус!$C$19-2*Корпус!$C$20))","v":0},{"$f":"IF(J5=Розрахунок!$A$74,Розрахунок!$I$78,IF(J5=Розрахунок!$A$80,Розрахунок!$I$84,0))","v":0},{"$f":"IF(J5=Розрахунок!$A$74,Корпус!$C$16,IF(J5=Розрахунок!$A$80,Корпус!$C$20,0))","v":0},{"$f":"Розрахунок!I137","v":""},1,{"$f":"IFERROR(VLOOKUP(CONCATENATE(E5,10*ROUND(Корпус!$C$9/10,0)),σ!C:D,2,FALSE),0)","v":0}]
[4,{"$nulls":5},{"$f":"IF(C6<32,0,IF(C6>76,VLOOKUP(F6,'c1'!B:E,4,FALSE),VLOOKUP(F6,'c1'!B:E,3,FALSE)))","v":0},0,{"$nulls":7},{"$f":"IFERROR(VLOOKUP(L6,List!I:J,2,FALSE),0)","v":0},0,{"$f":"IF(P6=3,(Q6+2*(G6+H6+I6))/SQRT(1-4*M6*M6/((Корпус!$C$19-2*Корпус!$C$20)*(Корпус!$C$19-2*Корпус!$C$20))),MAX(Штуцери!Q6,0.5*Штуцери!N6)+2*(Штуцери!G6+Штуцери!H6+Штуцери!I6))","v":0},{"$f":"IF(J6=\"\",0,IF(J6=List!$G$2,Корпус!$C$15-2*Корпус!$C$16,Корпус!$C$19-2*Корпус!$C$20))","v":0},{"$f":"IF(J6=Розрахунок!$A$74,Розрахунок!$I$78,IF(J6=Розрахунок!$A$80,Розрахунок!$I$84,0))","v":0},{"$f":"IF(J6=Розрахунок!$A$74,Корпус!$C$16,IF(J6=Розрахунок!$A$80,Корпус!$C$20,0))","v":0},{"$f":"Розрахунок!I138","v":""},1,{"$f":"IFERROR(VLOOKUP(CONCATENATE(E6,10*ROUND(Корпус!$C$9/10,0)),σ!C:D,2,FALSE),0)","v":0}]
[5,{"$nulls":5},{"$f":"IF(C7<32,0,IF(C7>76,VLOOKUP(F7,'c1'!B:E,4,FALSE),VLOOKUP(F7,'c1'!B:E,3,FALSE)))","v":0},0,{"$nulls":7},{"$f":"IFERROR(VLOOKUP(L7,List!I:J,2,FALSE),0)","v":0},0,{"$f":"IF(P7=3,(Q7+2*(G7+H7+I7))/SQRT(1-4*M7*M7/((Корпус!$C$19-2*Корпус!$C$20)*(Корпус!$C$19-2*Корпус!$C$20))),MAX(Штуцери!Q7,0.5*Штуцери!N7)+2*(Штуцери!G7+Штуцери!H7+Штуцери!I7))","v":0},{"$f":"IF(J7=\"\",0,IF(J7=List!$G$2,Корпус!$C$15-2*Корпус!$C$16,Корпус!$C$19-2*Корпус!$C$20))","v":0},{"$f":"IF(J7=Розрахунок!$A$74,Розрахунок!$I$78,IF(J7=Розрахунок!$A$80,Розрахунок!$I$84,0))","v":0},{"$f":"IF(J7=Розрахунок!$A$74,Корпус!$C$16,IF(J7=Розрахунок!$A$80,Корпус!$C$20,0))","v":0},{"$f":"Розрахунок!I139","v":""},1,{"$f":"IFERROR(VLOOKUP(CONCATENATE(E7,10*ROUND(Корпус!$C$9/10,0)),σ!C:D,2,FALSE),0)","v":0}]
[6,{"$nulls":5},{"$f":"IF(C8<32,0,IF(C8>76,VLOOKUP(F8,'c1'!B:E,4,FALSE),VLOOKUP(F8,'c1'!B:E,3,FALSE)))","v":0},0,{"$nulls":7},{"$f":"IFERROR(VLOOKUP(L8,List!I:J,2,FALSE),0)","v":0},0,{"$f":"IF(P8=3,(Q8+2*(G8+H8+I8))/SQRT(1-4*M8*M8/((Корпус!$C$19-2*Корпус!$C$20)*(Корпус!$C$19-2*Корпус!$C$20))),MAX(Штуцери!Q8,0.5*Штуцери!N8)+2*(Штуцери!G8+Штуцери!H8+Штуцери!I8))","v":0},{"$f":"IF(J8=\"\",0,IF(J8=List!$G$2,Корпус!$C$15-2*Корпус!$C$16,Корпус!$C$19-2*Корпус!$C$20))","v":0},{"$f":"IF(J8=Розрахунок!$A$74,Розрахунок!$I$78,IF(J8=Розрахунок!$A$80,Розрахунок!$I$84,0))","v":0},{"$f":"IF(J8=Розрахунок!$A$74,Корпус!$C$16,IF(J8=Розрахунок!$A$80,Корпус!$C$20,0))","v":0},{"$f":"Розрахунок!I140","v":""},1,{"$f":"IFERROR(VLOOKUP(CONCATENATE(E8,10*ROUND(Корпус!$C$9/10,0)),σ!C:D,2,FALSE),0)","v":0}]
[7,{"$nulls":5},{"$f":"IF(C9<32,0,IF(C9>76,VLOOKUP(F9,'c1'!B:E,4,FALSE),VLOOKUP(F9,'c1'!B:E,3,FALSE)))","v":0},0,{"$nulls":7},{"$f":"IFERROR(VLOOKUP(L9,List!I:J,2,FALSE),0)","v":0},0,{"$f":"IF(P9=3,(Q9+2*(G9+H9+I9))/SQRT(1-4*M9*M9/((Корпус!$C$19-2*Корпус!$C$20)*(Корпус!$C$19-2*Корпус!$C$20))),MAX(Штуцери!Q9,0.5*Штуцери!N9)+2*(Штуцери!G9+Штуцери!H9+Штуцери!I9))","v":0},{"$f":"IF(J9=\"\",0,IF(J9=List!$G$2,Корпус!$C$15-2*Корпус!$C$16,Корпус!$C$19-2*Корпус!$C$20))","v":0},{"$f":"IF(J9=Розрахунок!$A$74,Розрахунок!$I$78,IF(J9=Розрахунок!$A$80,Розрахунок!$I$84,0))","v":0},{"$f":"IF(J9=Розрахунок!$A$74,Корпус!$C$16,IF(J9=Розрахунок!$A$80,Корпус!$C$20,0))","v":0},{"$f":"Розрахунок!I141","v":""},1,{"$f":"IFERROR(VLOOKUP(CONCATENATE(E9,10*ROUND(Корпус!$C$9/10,0)),σ!C:D,2,FALSE),0)","v":0}]
[8,{"$nulls":5},{"$f":"IF(C10<32,0,IF(C10>76,VLOOKUP(F10,'c1'!B:E,4,FALSE),VLOOKUP(F10,'c1'!B:E,3,FALSE)))","v":0},0,{"$nulls":7},{"$f":"IFERROR(VLOOKUP(L10,List!I:J,2,FALSE),0)","v":0},0,{"$f":"IF(P10=3,(Q10+2*(G10+H10+I10))/SQRT(1-4*M10*M10/((Корпус!$C$19-2*Корпус!$C$20)*(Корпус!$C$19-2*Корпус!$C$20))),MAX(Штуцери!Q10,0.5*Штуцери!N10)+2*(Штуцери!G10+Штуцери!H10+Штуцери!I10))","v":0},{"$f":"IF(J10=\"\",0,IF(J10=List!$G$2,Корпус!$C$15-2*Корпус!$C$16,Корпус!$C$19-2*Корпус!$C$20))","v":0},{"$f":"IF(J10=Розрахунок!$A$74,Розрахунок!$I$78,IF(J10=Розрахунок!$A$80,Розрахунок!$I$84,0))","v":0},{"$f":"IF(J10=Розрахунок!$A$74,Корпус!$C$16,IF(J10=Розрахунок!$A$80,Корпус!$C$20,0))","v":0},{"$f":"Розрахунок!I142","v":""},1,{"$f":"IFERROR(VLOOKUP(CONCATENATE(E10,10*ROUND(Корпус!$C$9/10,0)),σ!C:D,2,FALSE),0)","v":0}]
[9,{"$nulls":5},{"$f":"IF(C11<32,0,IF(C11>76,VLOOKUP(F11,'c1'!B:E,4,FALSE),VLOOKUP(F11,'c1'!B:E,3,FALSE)))","v":0},0,{"$nulls":7},{"$f":"IFERROR(VLOOKUP(L11,List!I:J,2,FALSE),0)","v":0},0,{"$f":"IF(P11=3,(Q11+2*(G11+H11+I11))/SQRT(1-4*M11*M11/((Корпус!$C$19-2*Корпус!$C$20)*(Корпус!$C$19-2*Корпус!$C$20))),MAX(Штуцери!Q11,0.5*Штуцери!N11)+2*(Штуцери!G11+Штуцери!H11+Штуцери!I11))","v":0},{"$f":"IF(J11=\"\",0,IF(J11=List!$G$2,Корпус!$C$15-2*Корпус!$C$16,Корпус!$C$19-2*Корпус!$C$20))","v":0},{"$f":"IF(J11=Розрахунок!$A$74,Розрахунок!$I$78,IF(J11=Розрахунок!$A$80,Розрахунок!$I$84,0))","v":0},{"$f":"IF(J11=Розрахунок!$A$74,Корпус!$C$16,IF(J11=Розрахунок!$A$80,Корпус!$C$20,0))","v":0},{"$f":"Розрахунок!I143","v":""},1,{"$f":"IFERROR(VLOOKUP(CONCATENATE(E11,10*ROUND(Корпус!$C$9/10,0)),σ!C:D,2,FALSE),0)","v":0}]
[10,{"$nulls":5},{"$f":"IF(C12<32,0,IF(C12>76,VLOOKUP(F12,'c1'!B:E,4,FALSE),VLOOKUP(F12,'c1'!B:E,3,FALSE)))","v":0},0,{"$nulls":7},{"$f":"IFERROR(VLOOKUP(L12,List!I:J,2,FALSE),0)","v":0},0,{"$f":"IF(P12=3,(Q12+2*(G12+H12+I12))/SQRT(1-4*M12*M12/((Корпус!$C$19-2*Корпус!$C$20)*(Корпус!$C$19-2*Корпус!$C$20))),MAX(Штуцери!Q12,0.5*Штуцери!N12)+2*(Штуцери!G12+Штуцери!H12+Штуцери!I12))","v":0},{"$f":"IF(J12=\"\",0,IF(J12=List!$G$2,Корпус!$C$15-2*Корпус!$C$16,Корпус!$C$19-2*Корпус!$C$20))","v":0},{"$f":"IF(J12=Розрахунок!$A$74,Розрахунок!$I$78,IF(J12=Розрахунок!$A$80,Розрахунок!$I$84,0))","v":0},{"$f":"IF(J12=Розрахунок!$A$74,Корпус!$C$16,IF(J12=Розрахунок!$A$80,Корпус!$C$20,0))","v":0},{"$f":"Розрахунок!I144","v":""},1,{"$f":"IFERROR(VLOOKUP(CONCATENATE(E12,10*ROUND(Корпус!$C$9/10,0)),σ!C:D,2,FALSE),0)","v":0}]
[11,{"$nulls":5},{"$f":"IF(C13<32,0,IF(C13>76,VLOOKUP(F13,'c1'!B:E,4,FALSE),VLOOKUP(F13,'c1'!B:E,3,FALSE)))","v":0},0,{"$nulls":7},{"$f":"IFERROR(VLOOKUP(L13,List!I:J,2,FALSE),0)","v":0},0,{"$f":"IF(P13=3,(Q13+2*(G13+H13+I13))/SQRT(1-4*M13*M13/((Корпус!$C$19-2*Корпус!$C$20)*(Корпус!$C$19-2*Корпус!$C$20))),MAX(Штуцери!Q13,0.5*Штуцери!N13)+2*(Штуцери!G13+Штуцери!H13+Штуцери!I13))","v":0},{"$f":"IF(J13=\"\",0,IF(J13=List!$G$2,Корпус!$C$15-2*Корпус!$C$16,Корпус!$C$19-2*Корпус!$C$20))","v":0},{"$f":"IF(J13=Розрахунок!$A$74,Розрахунок!$I$78,IF(J13=Розрахунок!$A$80,Розрахунок!$I$84,0))","v":0},{"$f":"IF(J13=Розрахунок!$A$74,Корпус!$C$16,IF(J13=Розрахунок!$A$80,Корпус!$C$20,0))","v":0},{"$f":"Розрахунок!I145","v":""},1,{"$f":"IFERROR(VLOOKUP(CONCATENATE(E13,10*ROUND(Корпус!$C$9/10,0)),σ!C:D,2,FALSE),0)","v":0}]
[12,{"$nulls":5},{"$f":"IF(C14<32,0,IF(C14>76,VLOOKUP(F14,'c1'!B:E,4,FALSE),VLOOKUP(F14,'c1'!B:E,3,FALSE)))","v":0},0,{"$nulls":7},{"$f":"IFERROR(VLOOKUP(L14,List!I:J,2,FALSE),0)","v":0},0,{"$f":"IF(P14=3,(Q14+2*(G14+H14+I14))/SQRT(1-4*M14*M14/((Корпус!$C$19-2*Корпус!$C$20)*(Корпус!$C$19-2*Корпус!$C$20))),MAX(Штуцери!Q14,0.5*Штуцери!N14)+2*(Штуцери!G14+Штуцери!H14+Штуцери!I14))","v":0},{"$f":"IF(J14=\"\",0,IF(J14=List!$G$2,Корпус!$C$15-2*Корпус!$C$16,Корпус!$C$19-2*Корпус!$C$20))","v":0},{"$f":"IF(J14=Розрахунок!$A$74,Розрахунок!$I$78,IF(J14=Розрахунок!$A$80,Розрахунок!$I$84,0))","v":0},{"$f":"IF(J14=Розрахунок!$A$74,Корпус!$C$16,IF(J14=Розрахунок!$A$80,Корпус!$C$20,0))","v":0},{"$f":"Розрахунок!I146","v":""},1,{"$f":"IFERROR(VLOOKUP(CONCATENATE(E14,10*ROUND(Корпус!$C$9/10,0)),σ!C:D,2,FALSE),0)","v":0}]
[13,{"$nulls":5},{"$f":"IF(C15<32,0,IF(C15>76,VLOOKUP(F15,'c1'!B:E,4,FALSE),VLOOKUP(F15,'c1'!B:E,3,FALSE)))","v":0},0,{"$nulls":7},{"$f":"IFERROR(VLOOKUP(L15,List!I:J,2,FALSE),0)","v":0},0,{"$f":"IF(P15=3,(Q15+2*(G15+H15+I15))/SQRT(1-4*M15*M15/((Корпус!$C$19-2*Корпус!$C$20)*(Корпус!$C$19-2*Корпус!$C$20))),MAX(Штуцери!Q15,0.5*Штуцери!N15)+2*(Штуцери!G15+Штуцери!H15+Штуцери!I15))","v":0},{"$f":"IF(J15=\"\",0,IF(J15=List!$G$2,Корпус!$C$15-2*Корпус!$C$16,Корпус!$C$19-2*Корпус!$C$20))","v":0},{"$f":"IF(J15=Розрахунок!$A$74,Розрахунок!$I$78,IF(J15=Розрахунок!$A$80,Розрахунок!$I$84,0))","v":0},{"$f":"IF(J15=Розрахунок!$A$74,Корпус!$C$16,IF(J15=Розрахунок!$A$80,Корпус!$C$20,0))","v":0},{"$f":"Розрахунок!I147","v":""},1,{"$f":"IFERROR(VLOOKUP(CONCATENATE(E15,10*ROUND(Корпус!$C$9/10,0)),σ!C:D,2,FALSE),0)","v":0}]
[14,{"$nulls":5},{"$f":"IF(C16<32,0,IF(C16>76,VLOOKUP(F16,'c1'!B:E,4,FALSE),VLOOKUP(F16,'c1'!B:E,3,FALSE)))","v":0},0,{"$nulls":7},{"$f":"IFERROR(VLOOKUP(L16,List!I:J,2,FALSE),0)","v":0},0,{"$f":"IF(P16=3,(Q16+2*(G16+H16+I16))/SQRT(1-4*M16*M16/((Корпус!$C$19-2*Корпус!$C$20)*(Корпус!$C$19-2*Корпус!$C$20))),MAX(Штуцери!Q16,0.5*Штуцери!N16)+2*(Штуцери!G16+Штуцери!H16+Штуцери!I16))","v":0},{"$f":"IF(J16=\"\",0,IF(J16=List!$G$2,Корпус!$C$15-2*Корпус!$C$16,Корпус!$C$19-2*Корпус!$C$20))","v":0},{"$f":"IF(J16=Розрахунок!$A$74,Розрахунок!$I$78,IF(J16=Розрахунок!$A$80,Розрахунок!$I$84,0))","v":0},{"$f":"IF(J16=Розрахунок!$A$74,Корпус!$C$16,IF(J16=Розрахунок!$A$80,Корпус!$C$20,0))","v":0},{"$f":"Розрахунок!I148","v":""},1,{"$f":"IFERROR(VLOOKUP(CONCATENATE(E16,10*ROUND(Корпус!$C$9/10,0)),σ!C:D,2,FALSE),0)","v":0}]
[15,{"$nulls":5},{"$f":"IF(C17<32,0,IF(C17>76,VLOOKUP(F17,'c1'!B:E,4,FALSE),VLOOKUP(F17,'c1'!B:E,3,FALSE)))","v":0},0,{"$nulls":7},{"$f":"IFERROR(VLOOKUP(L17,List!I:J,2,FALSE),0)","v":0},0,{"$f":"IF(P17=3,(Q17+2*(G17+H17+I17))/SQRT(1-4*M17*M17/((Корпус!$C$19-2*Корпус!$C$20)*(Корпус!$C$19-2*Корпус!$C$20))),MAX(Штуцери!Q17,0.5*Штуцери!N17)+2*(Штуцери!G17+Штуцери!H17+Штуцери!I17))","v":0},{"$f":"IF(J17=\"\",0,IF(J17=List!$G$2,Корпус!$C$15-2*Корпус!$C$16,Корпус!$C$19-2*Корпус!$C$20))","v":0},{"$f":"IF(J17=Розрахунок!$A$74,Розрахунок!$I$78,IF(J17=Розрахунок!$A$80,Розрахунок!$I$84,0))","v":0},{"$f":"IF(J17=Розрахунок!$A$74,Корпус!$C$16,IF(J17=Розрахунок!$A$80,Корпус!$C$20,0))","v":0},{"$f":"Розрахунок!I149","v":""},1,{"$f":"IFERROR(VLOOKUP(CONCATENATE(E17,10*ROUND(Корпус!$C$9/10,0)),σ!C:D,2,FALSE),0)","v":0}]
[16,{"$nulls":5},{"$f":"IF(C18<32,0,IF(C18>76,VLOOKUP(F18,'c1'!B:E,4,FALSE),VLOOKUP(F18,'c1'!B:E,3,FALSE)))","v":0},0,{"$nulls":7},{"$f":"IFERROR(VLOOKUP(L18,List!I:J,2,FALSE),0)","v":0},0,{"$f":"IF(P18=3,(Q18+2*(G18+H18+I18))/SQRT(1-4*M18*M18/((Корпус!$C$19-2*Корпус!$C$20)*(Корпус!$C$19-2*Корпус!$C$20))),MAX(Штуцери!Q18,0.5*Штуцери!N18)+2*(Штуцери!G18+Штуцери!H18+Штуцери!I18))","v":0},{"$f":"IF(J18=\"\",0,IF(J18=List!$G$2,Корпус!$C$15-2*Корпус!$C$16,Корпус!$C$19-2*Корпус!$C$20))","v":0},{"$f":"IF(J18=Розрахунок!$A$74,Розрахунок!$I$78,IF(J18=Розрахунок!$A$80,Розрахунок!$I$84,0))","v":0},{"$f":"IF(J18=Розрахунок!$A$74,Корпус!$C$16,IF(J18=Розрахунок!$A$80,Корпус!$C$20,0))","v":0},{"$f":"Розрахунок!I150","v":""},1,{"$f":"IFERROR(VLOOKUP(CONCATENATE(E18,10*ROUND(Корпус!$C$9/10,0)),σ!C:D,2,FALSE),0)","v":0}]
[17,{"$nulls":5},{"$f":"IF(C19<32,0,IF(C19>76,VLOOKUP(F19,'c1'!B:E,4,FALSE),VLOOKUP(F19,'c1'!B:E,3,FALSE)))","v":0},0,{"$nulls":7},{"$f":"IFERROR(VLOOKUP(L19,List!I:J,2,FALSE),0)","v":0},0,{"$f":"IF(P19=3,(Q19+2*(G19+H19+I19))/SQRT(1-4*M19*M19/((Корпус!$C$19-2*Корпус!$C$20)*(Корпус!$C$19-2*Корпус!$C$20))),MAX(Штуцери!Q19,0.5*Штуцери!N19)+2*(Штуцери!G19+Штуцери!H19+Штуцери!I19))","v":0},{"$f":"IF(J19=\"\",0,IF(J19=List!$G$2,Корпус!$C$15-2*Корпус!$C$16,Корпус!$C$19-2*Корпус!$C$20))","v":0},{"$f":"IF(J19=Розрахунок!$A$74,Розрахунок!$I$78,IF(J19=Розрахунок!$A$80,Розрахунок!$I$84,0))","v":0},{"$f":"IF(J19=Розрахунок!$A$74,Корпус!$C$16,IF(J19=Розрахунок!$A$80,Корпус!$C$20,0))","v":0},{"$f":"Розрахунок!I151","v":""},1,{"$f":"IFERROR(VLOOKUP(CONCATENATE(E19,10*ROUND(Корпус!$C$9/10,0)),σ!C:D,2,FALSE),0)","v":0}]
[18,{"$nulls":5},{"$f":"IF(C20<32,0,IF(C20>76,VLOOKUP(F20,'c1'!B:E,4,FALSE),VLOOKUP(F20,'c1'!B:E,3,FALSE)))","v":0},0,{"$nulls":7},{"$f":"IFERROR(VLOOKUP(L20,List!I:J,2,FALSE),0)","v":0},0,{"$f":"IF(P20=3,(Q20+2*(G20+H20+I20))/SQRT(1-4*M20*M20/((Корпус!$C$19-2*Корпус!$C$20)*(Корпус!$C$19-2*Корпус!$C$20))),MAX(Штуцери!Q20,0.5*Штуцери!N20)+2*(Штуцери!G20+Штуцери!H20+Штуцери!I20))","v":0},{"$f":"IF(J20=\"\",0,IF(J20=List!$G$2,Корпус!$C$15-2*Корпус!$C$16,Корпус!$C$19-2*Корпус!$C$20))","v":0},{"$f":"IF(J20=Розрахунок!$A$74,Розрахунок!$I$78,IF(J20=Розрахунок!$A$80,Розрахунок!$I$84,0))","v":0},{"$f":"IF(J20=Розрахунок!$A$74,Корпус!$C$16,IF(J20=Розрахунок!$A$80,Корпус!$C$20,0))","v":0},{"$f":"Розрахунок!I152","v":""},1,{"$f":"IFERROR(VLOOKUP(CONCATENATE(E20,10*ROUND(Корпус!$C$9/10,0)),σ!C:D,2,FALSE),0)","v":0}]
[19,{"$nulls":5},{"$f":"IF(C21<32,0,IF(C21>76,VLOOKUP(F21,'c1'!B:E,4,FALSE),VLOOKUP(F21,'c1'!B:E,3,FALSE)))","v":0},0,{"$nulls":7},{"$f":"IFERROR(VLOOKUP(L21,List!I:J,2,FALSE),0)","v":0},0,{"$f":"IF(P21=3,(Q21+2*(G21+H21+I21))/SQRT(1-4*M21*M21/((Корпус!$C$19-2*Корпус!$C$20)*(Корпус!$C$19-2*Корпус!$C$20))),MAX(Штуцери!Q21,0.5*Штуцери!N21)+2*(Штуцери!G21+Штуцери!H21+Штуцери!I21))","v":0},{"$f":"IF(J21=\"\",0,IF(J21=List!$G$2,Корпус!$C$15-2*Корпус!$C$16,Корпус!$C$19-2*Корпус!$C$20))","v":0},{"$f":"IF(J21=Розрахунок!$A$74,Розрахунок!$I$78,IF(J21=Розрахунок!$A$80,Розрахунок!$I$84,0))","v":0},{"$f":"IF(J21=Розрахунок!$A$74,Корпус!$C$16,IF(J21=Розрахунок!$A$80,Корпус!$C$20,0))","v":0},{"$f":"Розрахунок!I153","v":""},1,{"$f":"IFERROR(VLOOKUP(CONCATENATE(E21,10*ROUND(Корпус!$C$9/10,0)),σ!C:D,2,FALSE),0)","v":0}]
[20,{"$nulls":5},{"$f":"IF(C22<32,0,IF(C22>76,VLOOKUP(F22,'c1'!B:E,4,FALSE),VLOOKUP(F22,'c1'!B:E,3,FALSE)))","v":0},0,{"$nulls":7},{"$f":"IFERROR(VLOOKUP(L22,List!I:J,2,FALSE),0)","v":0},0,{"$f":"IF(P22=3,(Q22+2*(G22+H22+I22))/SQRT(1-4*M22*M22/((Корпус!$C$19-2*Корпус!$C$20)*(Корпус!$C$19-2*Корпус!$C$20))),MAX(Штуцери!Q22,0.5*Штуцери!N22)+2*(Штуцери!G22+Штуцери!H22+Штуцери!I22))","v":0},{"$f":"IF(J22=\"\",0,IF(J22=List!$G$2,Корпус!$C$15-2*Корпус!$C$16,Корпус!$C$19-2*Корпус!$C$20))","v":0},{"$f":"IF(J22=Розрахунок!$A$74,Розрахунок!$I$78,IF(J22=Розрахунок!$A$80,Розрахунок!$I$84,0))","v":0},{"$f":"IF(J22=Розрахунок!$A$74,Корпус!$C$16,IF(J22=Розрахунок!$A$80,Корпус!$C$20,0))","v":0},{"$f":"Розрахунок!I154","v":""},1,{"$f":"IFERROR(VLOOKUP(CONCATENATE(E22,10*ROUND(Корпус!$C$9/10,0)),σ!C:D,2,FALSE),0)","v":0}]
[]
[]
[]
[]
[]
[{"$nulls":11},{"$f":"List!I1","v":"Розташування штуцера"},"ГОСТ 52857.3-2007"]
[{"$nulls":11},{"$f":"List!I2","v":"1 - Вісь штуцера співпадає з нормаллю до поверхні в центрі отвору"},"А.4, А5б, А.6"]
[{"$nulls":11},{"$f":"List!I3","v":"2 - Вісь штуцера лежить у площині поперечного перерізу обичайки"},"А11в, г"]
[{"$nulls":11},{"$f":"List!I4","v":"3 - Зміщенний штуцер на днищі"},"А5а"]

{"sheet":"Розрахунок","index":7,"n_rows":180,"n_cols":10,"rows_kept":180,"merged":[[15,1,20,8],[22,1,22,8],[57,2,57,6],[65,5,65,8],[86,1,86,8],[90,0,91,9],[99,0,100,4],[99,6,100,6],[99,7,100,9],[110,0,111,9],[119,0,120,4],[119,6,120,6],[119,7,120,9],[155,1,155,8]]}
{"$rows_empty":15}
[null,{"$f":"Корпус!C3","v":0}]
[]
[]
[]
[]
[]
[]
[null,"Розрахунок на міцність"]
{"$rows_empty":27}
[{"$nulls":4},{"$f":"Корпус!C5","v":0}]
[{"$nulls":4},{"$f":"Корпус!C6","v":0}]
[]
[]
[]
[]
[]
[null,null,"1. Вихідні дані"]
[]
[{"$f":"Корпус!B15","v":"Зовнішній діаметр обичайки (Dз), мм"},{"$nulls":7},{"$f":"Корпус!C15","v":0}]
["Внутрішній діаметр обичайки (D), мм",{"$nulls":7},{"$f":"Корпус!C15-2*Корпус!C16","v":0}]
["Внутрішній діаметр днища (Dд), мм",{"$nulls":7},{"$f":"Корпус!C19-2*Корпус!C20","v":0}]
[{"$f":"Корпус!B10","v":"Робочий тиск (Рроб) , бар"},{"$nulls":7},{"$f":"Корпус!C10","v":0}]
[{"$f":"Корпус!B11","v":"Розрахунковий тиск, бар (p)"},{"$nulls":7},{"$f":"Корпус!C11","v":0}]
[{"$f":"Корпус!B9","v":"Розрахункова температура (t), оС"},{"$nulls":7},{"$f":"Корпус!C9","v":0}]
[{"$f":"Корпус!B12","v":"Середовище"},{"$nulls":4},{"$f":"Корпус!C12","v":0}]
[{"$f":"Корпус!B17","v":"Матеріал обичайки"},{"$nulls":7},{"$f":"Корпус!C17","v":0}]
[{"$f":"Корпус!B21","v":"Матеріал днища"},{"$nulls":7},{"$f":"Корпус!C21","v":0}]
[{"$f":"CONCATENATE(σ!D1,\" металу обичайки\")","v":"Допустиме напруження, МПа (σ) металу обичайки"},{"$nulls":7},{"$f":"VLOOKUP(CONCATENATE(I67,10*ROUND(I65/10,0)),σ!C:D,2,FALSE)","v":{"$error":"#N/A"}}]
[{"$f":"CONCATENATE(σ!D1,\" металу днища\")","v":"Допустиме напруження, МПа (σ) металу днища"},{"$nulls":7},{"$f":"VLOOKUP(CONCATENATE(I68,10*ROUND(I65/10,0)),σ!C:D,2,FALSE)","v":{"$error":"#N/A"}}]
["Коефіцієнт міцності зварного шва, (φ)",{"$nulls":7},{"$f":"IF(Корпус!C24=100%,VLOOKUP(Корпус!C23,φ!B1:D4,2,FALSE),VLOOKUP(Корпус!C23,φ!B1:D4,3,FALSE))","v":{"$error":"#N/A"}}]
[]
["Прибавки до товщини стінок:"]
[{"$f":"Корпус!B28","v":"Обичайка"}]
[{"$f":"Корпус!B29","v":"с1 - прибавка для компенсації корозії, мм"},{"$nulls":7},{"$f":"IF(Корпус!C29=\"\",IF(I60<32,VLOOKUP(F66,'c1'!B2:E7,2,FALSE),IF(I60<77,VLOOKUP(F66,'c1'!B2:E7,3,FALSE),VLOOKUP(F66,'c1'!B2:E7,4,FALSE))),Корпус!C29)","v":{"$error":"#N/A"}}]
[{"$f":"Корпус!B30","v":"с2 - прибавка для компенсації міносового допуску, мм"},{"$nulls":7},{"$f":"IF(Корпус!C30=\"\",IF(Корпус!C16>15,12.5%*Корпус!C16,15%*Корпус!C16),Корпус!C30)","v":0}]
[{"$f":"Корпус!B31","v":"с3 - прибавка для компенсації технологічного оброблення деталі, мм"},{"$nulls":7},{"$f":"Корпус!C31","v":0}]
["с - загальна прибавка до товщини стінки обичайки, мм",{"$nulls":7},{"$f":"I75+I76+I77","v":{"$error":"#N/A"}}]
[]
[{"$f":"Корпус!B33","v":"Днище"}]
[{"$f":"Корпус!B34","v":"с1 - прибавка для компенсації корозії, мм"},{"$nulls":7},{"$f":"IF(Корпус!C34=\"\",IF(I60<32,VLOOKUP(F66,'c1'!B2:E7,2,FALSE),IF(I60<77,VLOOKUP(F66,'c1'!B2:E7,3,FALSE),VLOOKUP(F66,'c1'!B2:E7,4,FALSE))),Корпус!C34)","v":{"$error":"#N/A"}}]
[{"$f":"Корпус!B35","v":"с2 - прибавка для компенсації міносового допуску, мм"},{"$nulls":7},{"$f":"IF(Корпус!C35=\"\",0.8,Корпус!C35)","v":0.8}]
[{"$f":"Корпус!B36","v":"с3 - прибавка для компенсації технологічного оброблення деталі, мм"},{"$nulls":7},{"$f":"IF(Корпус!C36=\"\",Корпус!C20*15%,Корпус!C35)","v":0}]
["с - загальна прибавка до товщини стінки днища, мм",{"$nulls":6},"·",{"$f":"I81+I82+I83","v":{"$error":"#N/A"}}]
[]
[]
[null,"2. Розрахунок на міцність посудини під тиском"]
[]
[null,"2.1. Розрахунок товщини стінки обичайки"]
[]
["Розрахункові формули ГОСТ 14249-89 засосовують лише у разі певного відношення товщини стінки до діаметру. В іншому випадку рекомендується використовувати спеціальні методи розрахунку на міцність."]
[]
[]
["Умова застосування розрахункових формул",{"$nulls":5},{"$f":"IF(I61<200,CONCATENATE(\"(s-c)/D=\",formulas!D3,\"≤0,3\"),CONCATENATE(\"(s-c)/D=\",formulas!D3,\"≤0,1\"))","v":{"$error":"#N/A"}},null,{"$f":"IF(OR(AND(I60>=200,formulas!D3<=0.1),AND(I60<200,formulas!D3<=0.3)),\"виконується\",\"не виконується\")","v":{"$error":"#N/A"}}]
[]
["Товщина стінки обичайки розрахункова",{"$nulls":5},{"$f":"CONCATENATE(\"sp = p·D/(2·[σ]·φ-p) = \",formulas!D4,\" мм\")","v":{"$error":"#N/A"}}]
[]
["Товщина стінки обичайки виконавча",{"$nulls":5},{"$f":"CONCATENATE(\"s = \",Корпус!C16,\" мм\")","v":"s =  мм"}]
[]
["Коефіцієнт запасу міцності",{"$nulls":5},{"$f":"CONCATENATE(\"k = \",formulas!D5)","v":{"$error":"#N/A"}},{"$f":"IF(formulas!D5<1,\"Недостатня товщина стінки обичайки\",\"Міцність забезпечена\")","v":{"$error":"#N/A"}}]
[]
[]
["Допустимий внутрішній надлишковий тиск",{"$nulls":5},{"$f":"CONCATENATE(\"[p] = \",formulas!D6,\" бар\")","v":{"$error":"#N/A"}}]
[]
[]
[]
[]
[]
[null,"2.2. Розрахунок товщини стінки днища"]
[]
["Розрахункові формули ГОСТ 14249-89 засосовують лише у разі певного відношення товщини стінки до діаметру. В іншому випадку рекомендується використовувати спеціальні методи розрахунку на міцність."]
[]
[]
["Умова застосування розрахункових формул",{"$nulls":5},{"$f":"CONCATENATE(\"(s-c)/D = \",formulas!D9)","v":{"$error":"#N/A"}},null,{"$f":"IF(AND(formulas!D9>=0.002,formulas!D9<=0.1),\"виконується\",\"не виконується\")","v":{"$error":"#N/A"}}]
[]
[{"$f":"formulas!B10","v":"Товщина стінки днища розрахункова"},{"$nulls":5},{"$f":"CONCATENATE(\"sp = p·Dд/(2·[σ]·φ-0,5·p) = \",formulas!D10,\" мм\")","v":{"$error":"#N/A"}}]
[]
["Товщина стінки днища виконавча",{"$nulls":5},{"$f":"CONCATENATE(\"s = \",Корпус!C20,\" мм\")","v":"s =  мм"}]
[]
["Коефіцієнт запасу міцності",{"$nulls":5},{"$f":"CONCATENATE(\"k = \",formulas!D11)","v":{"$error":"#N/A"}},{"$f":"IF(formulas!D11<1,\"Недостатня товщина стінки обичайки\",\"Міцність забезпечена\")","v":{"$error":"#N/A"}}]
[]
[]
["Допустимий внутрішній надлишковий тиск",{"$nulls":5},{"$f":"CONCATENATE(\"[p] = \",formulas!D12,\" бар\")","v":{"$error":"#N/A"}}]
[]
[]
[null,"3. Розрахунок укріплень отворів"]
[]
[null,"3.1. Визначення розрахункових діаметрів та товщин стінок"]
[]
["Для циліндричної обичайки",{"$nulls":5},{"$f":"CONCATENATE(\"Dp = \",formulas!D15,\" мм\")","v":"Dp = 0 мм"}]
[]
["Для еліптичних днищ",{"$nulls":5},{"$f":"CONCATENATE(\"Dp = \",formulas!D16,\" мм\")","v":"Dp = 0 мм"}]
[]
[{"$f":"Штуцери!A2","v":"№\nштуцера"},{"$f":"Штуцери!B2","v":"Умовний діаметр DN, мм"},{"$f":"Штуцери!C2","v":"Зовнішній діаметр, мм"},{"$f":"Штуцери!D2","v":"Товщина стінки, мм"},"Загальна прибавка до товщини стінки с, мм","Розрахунковий діаметр dp, мм","Відношення діаметрів","Відношення товщини стінки обичайки або днища до діамерта","Умови застосування розрахункових вормул","Розрахункова товщина стінки штуцера, мм"]
[{"$f":"CONCATENATE(Штуцери!A3,\"; \",Штуцери!J3)","v":"1; "},{"$f":"IF(Штуцери!B3=\"\",\"\",Штуцери!B3)","v":""},{"$f":"IF(Штуцери!C3=\"\",\"\",Штуцери!C3)","v":""},{"$f":"IF(Штуцери!D3=\"\",\"\",Штуцери!D3)","v":""},{"$f":"Штуцери!G3+Штуцери!H3+Штуцери!I3","v":0},{"$f":"Штуцери!R3","v":0},{"$f":"IFERROR((F135-2*E135)/Штуцери!S3,0)","v":{"v":0,"d":"0.00"}},{"$f":"IFERROR((Штуцери!U3-Штуцери!T3)/Штуцери!S3,\"\")","v":""},{"$f":"IF(H135=\"\",\"\",IF(IF(Штуцери!J3=List!$G$2,AND(Розрахунок!G135<=1,Розрахунок!H135<=0.1),AND(Розрахунок!G135<=0.6,Розрахунок!H135<=0.1))=TRUE,\"Виконується\",\"Не виконується\"))","v":""},{"$f":"IF(Корпус!$C$11*(Розрахунок!F135+2*Розрахунок!E135)/(20*Штуцери!K3*Штуцери!X3-Корпус!$C$11/10)>D135,\"Умови міцності не задовільняються\",Корпус!$C$11*(Розрахунок!F135+2*Розрахунок!E135)/(20*Штуцери!K3*Штуцери!X3-Корпус!$C$11/10))","v":{"$error":"#DIV/0!"}}]
[{"$f":"CONCATENATE(Штуцери!A4,\"; \",Штуцери!J4)","v":"2; "},{"$f":"IF(Штуцери!B4=\"\",\"\",Штуцери!B4)","v":""},{"$f":"IF(Штуцери!C4=\"\",\"\",Штуцери!C4)","v":""},{"$f":"IF(Штуцери!D4=\"\",\"\",Штуцери!D4)","v":""},{"$f":"Штуцери!G4+Штуцери!H4+Штуцери!I4","v":0},{"$f":"Штуцери!R4","v":0},{"$f":"IFERROR((F136-2*E136)/Штуцери!S4,0)","v":{"v":0,"d":"0.00"}},{"$f":"IFERROR((Штуцери!U4-Штуцери!T4)/Штуцери!S4,\"\")","v":""},{"$f":"IF(H136=\"\",\"\",IF(IF(Штуцери!J4=List!$G$2,AND(Розрахунок!G136<=1,Розрахунок!H136<=0.1),AND(Розрахунок!G136<=0.6,Розрахунок!H136<=0.1))=TRUE,\"Виконується\",\"Не виконується\"))","v":""},{"$f":"IF(Корпус!$C$11*(Розрахунок!F136+2*Розрахунок!E136)/(20*Штуцери!K4*Штуцери!X4-Корпус!$C$11/10)>D136,\"Умови міцності не задовільняються\",Корпус!$C$11*(Розрахунок!F136+2*Розрахунок!E136)/(20*Штуцери!K4*Штуцери!X4-Корпус!$C$11/10))","v":{"$error":"#DIV/0!"}}]
[{"$f":"CONCATENATE(Штуцери!A5,\"; \",Штуцери!J5)","v":"3; "},{"$f":"IF(Штуцери!B5=\"\",\"\",Штуцери!B5)","v":""},{"$f":"IF(Штуцери!C5=\"\",\"\",Штуцери!C5)","v":""},{"$f":"IF(Штуцери!D5=\"\",\"\",Штуцери!D5)","v":""},{"$f":"Штуцери!G5+Штуцери!H5+Штуцери!I5","v":0},{"$f":"Штуцери!R5","v":0},{"$f":"IFERROR((F137-2*E137)/Штуцери!S5,0)","v":{"v":0,"d":"0.00"}},{"$f":"IFERROR((Штуцери!U5-Штуцери!T5)/Штуцери!S5,\"\")","v":""},{"$f":"IF(H137=\"\",\"\",IF(IF(Штуцери!J5=List!$G$2,AND(Розрахунок!G137<=1,Розрахунок!H137<=0.1),AND(Розрахунок!G137<=0.6,Розрахунок!H137<=0.1))=TRUE,\"Виконується\",\"Не виконується\"))","v":""},{"$f":"IF(Корпус!$C$11*(Розрахунок!F137+2*Розрахунок!E137)/(20*Штуцери!K5*Штуцери!X5-Корпус!$C$11/10)>D137,\"Умови міцності не задовільняються\",Корпус!$C$11*(Розрахунок!F137+2*Розрахунок!E137)/(20*Штуцери!K5*Штуцери!X5-Корпус!$C$11/10))","v":{"$error":"#DIV/0!"}}]
[{"$f":"CONCATENATE(Штуцери!A6,\"; \",Штуцери!J6)","v":"4; "},{"$f":"IF(Штуцери!B6=\"\",\"\",Штуцери!B6)","v":""},{"$f":"IF(Штуцери!C6=\"\",\"\",Штуцери!C6)","v":""},{"$f":"IF(Штуцери!D6=\"\",\"\",Штуцери!D6)","v":""},{"$f":"Штуцери!G6+Штуцери!H6+Штуцери!I6","v":0},{"$f":"Штуцери!R6","v":0},{"$f":"IFERROR((F138-2*E138)/Штуцери!S6,0)","v":{"v":0,"d":"0.00"}},{"$f":"IFERROR((Штуцери!U6-Штуцери!T6)/Штуцери!S6,\"\")","v":""},{"$f":"IF(H138=\"\",\"\",IF(IF(Штуцери!J6=List!$G$2,AND(Розрахунок!G138<=1,Розрахунок!H138<=0.1),AND(Розрахунок!G138<=0.6,Розрахунок!H138<=0.1))=TRUE,\"Виконується\",\"Не виконується\"))","v":""},{"$f":"IF(Корпус!$C$11*(Розрахунок!F138+2*Розрахунок!E138)/(20*Штуцери!K6*Штуцери!X6-Корпус!$C$11/10)>D138,\"Умови міцності не задовільняються\",Корпус!$C$11*(Розрахунок!F138+2*Розрахунок!E138)/(20*Штуцери!K6*Штуцери!X6-Корпус!$C$11/10))","v":{"$error":"#DIV/0!"}}]
[{"$f":"CONCATENATE(Штуцери!A7,\"; \",Штуцери!J7)","v":"5; "},{"$f":"IF(Штуцери!B7=\"\",\"\",Штуцери!B7)","v":""},{"$f":"IF(Штуцери!C7=\"\",\"\",Штуцери!C7)","v":""},{"$f":"IF(Штуцери!D7=\"\",\"\",Штуцери!D7)","v":""},{"$f":"Штуцери!G7+Штуцери!H7+Штуцери!I7","v":0},{"$f":"Штуцери!R7","v":0},{"$f":"IFERROR((F139-2*E139)/Штуцери!S7,0)","v":{"v":0,"d":"0.00"}},{"$f":"IFERROR((Штуцери!U7-Штуцери!T7)/Штуцери!S7,\"\")","v":""},{"$f":"IF(H139=\"\",\"\",IF(IF(Штуцери!J7=List!$G$2,AND(Розрахунок!G139<=1,Розрахунок!H139<=0.1),AND(Розрахунок!G139<=0.6,Розрахунок!H139<=0.1))=TRUE,\"Виконується\",\"Не виконується\"))","v":""},{"$f":"IF(Корпус!$C$11*(Розрахунок!F139+2*Розрахунок!E139)/(20*Штуцери!K7*Штуцери!X7-Корпус!$C$11/10)>D139,\"Умови міцності не задовільняються\",Корпус!$C$11*(Розрахунок!F139+2*Розрахунок!E139)/(20*Штуцери!K7*Штуцери!X7-Корпус!$C$11/10))","v":{"$error":"#DIV/0!"}}]
[{"$f":"CONCATENATE(Штуцери!A8,\"; \",Штуцери!J8)","v":"6; "},{"$f":"IF(Штуцери!B8=\"\",\"\",Штуцери!B8)","v":""},{"$f":"IF(Штуцери!C8=\"\",\"\",Штуцери!C8)","v":""},{"$f":"IF(Штуцери!D8=\"\",\"\",Штуцери!D8)","v":""},{"$f":"Штуцери!G8+Штуцери!H8+Штуцери!I8","v":0},{"$f":"Штуцери!R8","v":0},{"$f":"IFERROR((F140-2*E140)/Штуцери!S8,0)","v":{"v":0,"d":"0.00"}},{"$f":"IFERROR((Штуцери!U8-Штуцери!T8)/Штуцери!S8,\"\")","v":""},{"$f":"IF(H140=\"\",\"\",IF(IF(Штуцери!J8=List!$G$2,AND(Розрахунок!G140<=1,Розрахунок!H140<=0.1),AND(Розрахунок!G140<=0.6,Розрахунок!H140<=0.1))=TRUE,\"Виконується\",\"Не виконується\"))","v":""},{"$f":"IF(Корпус!$C$11*(Розрахунок!F140+2*Розрахунок!E140)/(20*Штуцери!K8*Штуцери!X8-Корпус!$C$11/10)>D140,\"Умови міцності не задовільняються\",Корпус!$C$11*(Розрахунок!F140+2*Розрахунок!E140)/(20*Штуцери!K8*Штуцери!X8-Корпус!$C$11/10))","v":{"$error":"#DIV/0!"}}]
[{"$f":"CONCATENATE(Штуцери!A9,\"; \",Штуцери!J9)","v":"7; "},{"$f":"IF(Штуцери!B9=\"\",\"\",Штуцери!B9)","v":""},{"$f":"IF(Штуцери!C9=\"\",\"\",Штуцери!C9)","v":""},{"$f":"IF(Штуцери!D9=\"\",\"\",Штуцери!D9)","v":""},{"$f":"Штуцери!G9+Штуцери!H9+Штуцери!I9","v":0},{"$f":"Штуцери!R9","v":0},{"$f":"IFERROR((F141-2*E141)/Штуцери!S9,0)","v":{"v":0,"d":"0.00"}},{"$f":"IFERROR((Штуцери!U9-Штуцери!T9)/Штуцери!S9,\"\")","v":""},{"$f":"IF(H141=\"\",\"\",IF(IF(Штуцери!J9=List!$G$2,AND(Розрахунок!G141<=1,Розрахунок!H141<=0.1),AND(Розрахунок!G141<=0.6,Розрахунок!H141<=0.1))=TRUE,\"Виконується\",\"Не виконується\"))","v":""},{"$f":"IF(Корпус!$C$11*(Розрахунок!F141+2*Розрахунок!E141)/(20*Штуцери!K9*Штуцери!X9-Корпус!$C$11/10)>D141,\"Умови міцності не задовільняються\",Корпус!$C$11*(Розрахунок!F141+2*Розрахунок!E141)/(20*Штуцери!K9*Штуцери!X9-Корпус!$C$11/10))","v":{"$error":"#DIV/0!"}}]
[{"$f":"CONCATENATE(Штуцери!A10,\"; \",Штуцери!J10)","v":"8; "},{"$f":"IF(Штуцери!B10=\"\",\"\",Штуцери!B10)","v":""},{"$f":"IF(Штуцери!C10=\"\",\"\",Штуцери!C10)","v":""},{"$f":"IF(Штуцери!D10=\"\",\"\",Штуцери!D10)","v":""},{"$f":"Штуцери!G10+Штуцери!H10+Штуцери!I10","v":0},{"$f":"Штуцери!R10","v":0},{"$f":"IFERROR((F142-2*E142)/Штуцери!S10,0)","v":{"v":0,"d":"0.00"}},{"$f":"IFERROR((Штуцери!U10-Штуцери!T10)/Штуцери!S10,\"\")","v":""},{"$f":"IF(H142=\"\",\"\",IF(IF(Штуцери!J10=List!$G$2,AND(Розрахунок!G142<=1,Розрахунок!H142<=0.1),AND(Розрахунок!G142<=0.6,Розрахунок!H142<=0.1))=TRUE,\"Виконується\",\"Не виконується\"))","v":""},{"$f":"IF(Корпус!$C$11*(Розрахунок!F142+2*Розрахунок!E142)/(20*Штуцери!K10*Штуцери!X10-Корпус!$C$11/10)>D142,\"Умови міцності не задовільняються\",Корпус!$C$11*(Розрахунок!F142+2*Розрахунок!E142)/(20*Штуцери!K10*Штуцери!X10-Корпус!$C$11/10))","v":{"$error":"#DIV/0!"}}]
[{"$f":"CONCATENATE(Штуцери!A11,\"; \",Штуцери!J11)","v":"9; "},{"$f":"IF(Штуцери!B11=\"\",\"\",Штуцери!B11)","v":""},{"$f":"IF(Штуцери!C11=\"\",\"\",Штуцери!C11)","v":""},{"$f":"IF(Штуцери!D11=\"\",\"\",Штуцери!D11)","v":""},{"$f":"Штуцери!G11+Штуцери!H11+Штуцери!I11","v":0},{"$f":"Штуцери!R11","v":0},{"$f":"IFERROR((F143-2*E143)/Штуцери!S11,0)","v":{"v":0,"d":"0.00"}},{"$f":"IFERROR((Штуцери!U11-Штуцери!T11)/Штуцери!S11,\"\")","v":""},{"$f":"IF(H143=\"\",\"\",IF(IF(Штуцери!J11=List!$G$2,AND(Розрахунок!G143<=1,Розрахунок!H143<=0.1),AND(Розрахунок!G143<=0.6,Розрахунок!H143<=0.1))=TRUE,\"Виконується\",\"Не виконується\"))","v":""},{"$f":"IF(Корпус!$C$11*(Розрахунок!F143+2*Розрахунок!E143)/(20*Штуцери!K11*Штуцери!X11-Корпус!$C$11/10)>D143,\"Умови міцності не задовільняються\",Корпус!$C$11*(Розрахунок!F143+2*Розрахунок!E143)/(20*Штуцери!K11*Штуцери!X11-Корпус!$C$11/10))","v":{"$error":"#DIV/0!"}}]
[{"$f":"CONCATENATE(Штуцери!A12,\"; \",Штуцери!J12)","v":"10; "},{"$f":"IF(Штуцери!B12=\"\",\"\",Штуцери!B12)","v":""},{"$f":"IF(Штуцери!C12=\"\",\"\",Штуцери!C12)","v":""},{"$f":"IF(Штуцери!D12=\"\",\"\",Штуцери!D12)","v":""},{"$f":"Штуцери!G12+Штуцери!H12+Штуцери!I12","v":0},{"$f":"Штуцери!R12","v":0},{"$f":"IFERROR((F144-2*E144)/Штуцери!S12,0)","v":{"v":0,"d":"0.00"}},{"$f":"IFERROR((Штуцери!U12-Штуцери!T12)/Штуцери!S12,\"\")","v":""},{"$f":"IF(H144=\"\",\"\",IF(IF(Штуцери!J12=List!$G$2,AND(Розрахунок!G144<=1,Розрахунок!H144<=0.1),AND(Розрахунок!G144<=0.6,Розрахунок!H144<=0.1))=TRUE,\"Виконується\",\"Не виконується\"))","v":""},{"$f":"IF(Корпус!$C$11*(Розрахунок!F144+2*Розрахунок!E144)/(20*Штуцери!K12*Штуцери!X12-Корпус!$C$11/10)>D144,\"Умови міцності не задовільняються\",Корпус!$C$11*(Розрахунок!F144+2*Розрахунок!E144)/(20*Штуцери!K12*Штуцери!X12-Корпус!$C$11/10))","v":{"$error":"#DIV/0!"}}]
[{"$f":"CONCATENATE(Штуцери!A13,\"; \",Штуцери!J13)","v":"11; "},{"$f":"IF(Штуцери!B13=\"\",\"\",Штуцери!B13)","v":""},{"$f":"IF(Штуцери!C13=\"\",\"\",Штуцери!C13)","v":""},{"$f":"IF(Штуцери!D13=\"\",\"\",Штуцери!D13)","v":""},{"$f":"Штуцери!G13+Штуцери!H13+Штуцери!I13","v":0},{"$f":"Штуцери!R13","v":0},{"$f":"IFERROR((F145-2*E145)/Штуцери!S13,0)","v":{"v":0,"d":"0.00"}},{"$f":"IFERROR((Штуцери!U13-Штуцери!T13)/Штуцери!S13,\"\")","v":""},{"$f":"IF(H145=\"\",\"\",IF(IF(Штуцери!J13=List!$G$2,AND(Розрахунок!G145<=1,Розрахунок!H145<=0.1),AND(Розрахунок!G145<=0.6,Розрахунок!H145<=0.1))=TRUE,\"Виконується\",\"Не виконується\"))","v":""},{"$f":"IF(Корпус!$C$11*(Розрахунок!F145+2*Розрахунок!E145)/(20*Штуцери!K13*Штуцери!X13-Корпус!$C$11/10)>D145,\"Умови міцності не задовільняються\",Корпус!$C$11*(Розрахунок!F145+2*Розрахунок!E145)/(20*Штуцери!K13*Штуцери!X13-Корпус!$C$11/10))","v":{"$error":"#DIV/0!"}}]
[{"$f":"CONCATENATE(Штуцери!A14,\"; \",Штуцери!J14)","v":"12; "},{"$f":"IF(Штуцери!B14=\"\",\"\",Штуцери!B14)","v":""},{"$f":"IF(Штуцери!C14=\"\",\"\",Штуцери!C14)","v":""},{"$f":"IF(Штуцери!D14=\"\",\"\",Штуцери!D14)","v":""},{"$f":"Штуцери!G14+Штуцери!H14+Штуцери!I14","v":0},{"$f":"Штуцери!R14","v":0},{"$f":"IFERROR((F146-2*E146)/Штуцери!S14,0)","v":{"v":0,"d":"0.00"}},{"$f":"IFERROR((Штуцери!U14-Штуцери!T14)/Штуцери!S14,\"\")","v":""},{"$f":"IF(H146=\"\",\"\",IF(IF(Штуцери!J14=List!$G$2,AND(Розрахунок!G146<=1,Розрахунок!H146<=0.1),AND(Розрахунок!G146<=0.6,Розрахунок!H146<=0.1))=TRUE,\"Виконується\",\"Не виконується\"))","v":""},{"$f":"IF(Корпус!$C$11*(Розрахунок!F146+2*Розрахунок!E146)/(20*Штуцери!K14*Штуцери!X14-Корпус!$C$11/10)>D146,\"Умови міцності не задовільняються\",Корпус!$C$11*(Розрахунок!F146+2*Розрахунок!E146)/(20*Штуцери!K14*Штуцери!X14-Корпус!$C$11/10))","v":{"$error":"#DIV/0!"}}]
[{"$f":"CONCATENATE(Штуцери!A15,\"; \",Штуцери!J15)","v":"13; "},{"$f":"IF(Штуцери!B15=\"\",\"\",Штуцери!B15)","v":""},{"$f":"IF(Штуцери!C15=\"\",\"\",Штуцери!C15)","v":""},{"$f":"IF(Штуцери!D15=\"\",\"\",Штуцери!D15)","v":""},{"$f":"Штуцери!G15+Штуцери!H15+Штуцери!I15","v":0},{"$f":"Штуцери!R15","v":0},{"$f":"IFERROR((F147-2*E147)/Штуцери!S15,0)","v":{"v":0,"d":"0.00"}},{"$f":"IFERROR((Штуцери!U15-Штуцери!T15)/Штуцери!S15,\"\")","v":""},{"$f":"IF(H147=\"\",\"\",IF(IF(Штуцери!J15=List!$G$2,AND(Розрахунок!G147<=1,Розрахунок!H147<=0.1),AND(Розрахунок!G147<=0.6,Розрахунок!H147<=0.1))=TRUE,\"Виконується\",\"Не виконується\"))","v":""},{"$f":"IF(Корпус!$C$11*(Розрахунок!F147+2*Розрахунок!E147)/(20*Штуцери!K15*Штуцери!X15-Корпус!$C$11/10)>D147,\"Умови міцності не задовільняються\",Корпус!$C$11*(Розрахунок!F147+2*Розрахунок!E147)/(20*Штуцери!K15*Штуцери!X15-Корпус!$C$11/10))","v":{"$error":"#DIV/0!"}}]
[{"$f":"CONCATENATE(Штуцери!A16,\"; \",Штуцери!J16)","v":"14; "},{"$f":"IF(Штуцери!B16=\"\",\"\",Штуцери!B16)","v":""},{"$f":"IF(Штуцери!C16=\"\",\"\",Штуцери!C16)","v":""},{"$f":"IF(Штуцери!D16=\"\",\"\",Штуцери!D16)","v":""},{"$f":"Штуцери!G16+Штуцери!H16+Штуцери!I16","v":0},{"$f":"Штуцери!R16","v":0},{"$f":"IFERROR((F148-2*E148)/Штуцери!S16,0)","v":{"v":0,"d":"0.00"}},{"$f":"IFERROR((Штуцери!U16-Штуцери!T16)/Штуцери!S16,\"\")","v":""},{"$f":"IF(H148=\"\",\"\",IF(IF(Штуцери!J16=List!$G$2,AND(Розрахунок!G148<=1,Розрахунок!H148<=0.1),AND(Розрахунок!G148<=0.6,Розрахунок!H148<=0.1))=TRUE,\"Виконується\",\"Не виконується\"))","v":""},{"$f":"IF(Корпус!$C$11*(Розрахунок!F148+2*Розрахунок!E148)/(20*Штуцери!K16*Штуцери!X16-Корпус!$C$11/10)>D148,\"Умови міцності не задовільняються\",Корпус!$C$11*(Розрахунок!F148+2*Розрахунок!E148)/(20*Штуцери!K16*Штуцери!X16-Корпус!$C$11/10))","v":{"$error":"#DIV/0!"}}]
[{"$f":"CONCATENATE(Штуцери!A17,\"; \",Штуцери!J17)","v":"15; "},{"$f":"IF(Штуцери!B17=\"\",\"\",Штуцери!B17)","v":""},{"$f":"IF(Штуцери!C17=\"\",\"\",Штуцери!C17)","v":""},{"$f":"IF(Штуцери!D17=\"\",\"\",Штуцери!D17)","v":""},{"$f":"Штуцери!G17+Штуцери!H17+Штуцери!I17","v":0},{"$f":"Штуцери!R17","v":0},{"$f":"IFERROR((F149-2*E149)/Штуцери!S17,0)","v":{"v":0,"d":"0.00"}},{"$f":"IFERROR((Штуцери!U17-Штуцери!T17)/Штуцери!S17,\"\")","v":""},{"$f":"IF(H149=\"\",\"\",IF(IF(Штуцери!J17=List!$G$2,AND(Розрахунок!G149<=1,Розрахунок!H149<=0.1),AND(Розрахунок!G149<=0.6,Розрахунок!H149<=0.1))=TRUE,\"Виконується\",\"Не виконується\"))","v":""},{"$f":"IF(Корпус!$C$11*(Розрахунок!F149+2*Розрахунок!E149)/(20*Штуцери!K17*Штуцери!X17-Корпус!$C$11/10)>D149,\"Умови міцності не задовільняються\",Корпус!$C$11*(Розрахунок!F149+2*Розрахунок!E149)/(20*Штуцери!K17*Штуцери!X17-Корпус!$C$11/10))","v":{"$error":"#DIV/0!"}}]
[{"$f":"CONCATENATE(Штуцери!A18,\"; \",Штуцери!J18)","v":"16; "},{"$f":"IF(Штуцери!B18=\"\",\"\",Штуцери!B18)","v":""},{"$f":"IF(Штуцери!C18=\"\",\"\",Штуцери!C18)","v":""},{"$f":"IF(Штуцери!D18=\"\",\"\",Штуцери!D18)","v":""},{"$f":"Штуцери!G18+Штуцери!H18+Штуцери!I18","v":0},{"$f":"Штуцери!R18","v":0},{"$f":"IFERROR((F150-2*E150)/Штуцери!S18,0)","v":{"v":0,"d":"0.00"}},{"$f":"IFERROR((Штуцери!U18-Штуцери!T18)/Штуцери!S18,\"\")","v":""},{"$f":"IF(H150=\"\",\"\",IF(IF(Штуцери!J18=List!$G$2,AND(Розрахунок!G150<=1,Розрахунок!H150<=0.1),AND(Розрахунок!G150<=0.6,Розрахунок!H150<=0.1))=TRUE,\"Виконується\",\"Не виконується\"))","v":""},{"$f":"IF(Корпус!$C$11*(Розрахунок!F150+2*Розрахунок!E150)/(20*Штуцери!K18*Штуцери!X18-Корпус!$C$11/10)>D150,\"Умови міцності не задовільняються\",Корпус!$C$11*(Розрахунок!F150+2*Розрахунок!E150)/(20*Штуцери!K18*Штуцери!X18-Корпус!$C$11/10))","v":{"$error":"#DIV/0!"}}]
[{"$f":"CONCATENATE(Штуцери!A19,\"; \",Штуцери!J19)","v":"17; "},{"$f":"IF(Штуцери!B19=\"\",\"\",Штуцери!B19)","v":""},{"$f":"IF(Штуцери!C19=\"\",\"\",Штуцери!C19)","v":""},{"$f":"IF(Штуцери!D19=\"\",\"\",Штуцери!D19)","v":""},{"$f":"Штуцери!G19+Штуцери!H19+Штуцери!I19","v":0},{"$f":"Штуцери!R19","v":0},{"$f":"IFERROR((F151-2*E151)/Штуцери!S19,0)","v":{"v":0,"d":"0.00"}},{"$f":"IFERROR((Штуцери!U19-Штуцери!T19)/Штуцери!S19,\"\")","v":""},{"$f":"IF(H151=\"\",\"\",IF(IF(Штуцери!J19=List!$G$2,AND(Розрахунок!G151<=1,Розрахунок!H151<=0.1),AND(Розрахунок!G151<=0.6,Розрахунок!H151<=0.1))=TRUE,\"Виконується\",\"Не виконується\"))","v":""},{"$f":"IF(Корпус!$C$11*(Розрахунок!F151+2*Розрахунок!E151)/(20*Штуцери!K19*Штуцери!X19-Корпус!$C$11/10)>D151,\"Умови міцності не задовільняються\",Корпус!$C$11*(Розрахунок!F151+2*Розрахунок!E151)/(20*Штуцери!K19*Штуцери!X19-Корпус!$C$11/10))","v":{"$error":"#DIV/0!"}}]
[{"$f":"CONCATENATE(Штуцери!A20,\"; \",Штуцери!J20)","v":"18; "},{"$f":"IF(Штуцери!B20=\"\",\"\",Штуцери!B20)","v":""},{"$f":"IF(Штуцери!C20=\"\",\"\",Штуцери!C20)","v":""},{"$f":"IF(Штуцери!D20=\"\",\"\",Штуцери!D20)","v":""},{"$f":"Штуцери!G20+Штуцери!H20+Штуцери!I20","v":0},{"$f":"Штуцери!R20","v":0},{"$f":"IFERROR((F152-2*E152)/Штуцери!S20,0)","v":{"v":0,"d":"0.00"}},{"$f":"IFERROR((Штуцери!U20-Штуцери!T20)/Штуцери!S20,\"\")","v":""},{"$f":"IF(H152=\"\",\"\",IF(IF(Штуцери!J20=List!$G$2,AND(Розрахунок!G152<=1,Розрахунок!H152<=0.1),AND(Розрахунок!G152<=0.6,Розрахунок!H152<=0.1))=TRUE,\"Виконується\",\"Не виконується\"))","v":""},{"$f":"IF(Корпус!$C$11*(Розрахунок!F152+2*Розрахунок!E152)/(20*Штуцери!K20*Штуцери!X20-Корпус!$C$11/10)>D152,\"Умови міцності не задовільняються\",Корпус!$C$11*(Розрахунок!F152+2*Розрахунок!E152)/(20*Штуцери!K20*Штуцери!X20-Корпус!$C$11/10))","v":{"$error":"#DIV/0!"}}]
[{"$f":"CONCATENATE(Штуцери!A21,\"; \",Штуцери!J21)","v":"19; "},{"$f":"IF(Штуцери!B21=\"\",\"\",Штуцери!B21)","v":""},{"$f":"IF(Штуцери!C21=\"\",\"\",Штуцери!C21)","v":""},{"$f":"IF(Штуцери!D21=\"\",\"\",Штуцери!D21)","v":""},{"$f":"Штуцери!G21+Штуцери!H21+Штуцери!I21","v":0},{"$f":"Штуцери!R21","v":0},{"$f":"IFERROR((F153-2*E153)/Штуцери!S21,0)","v":{"v":0,"d":"0.00"}},{"$f":"IFERROR((Штуцери!U21-Штуцери!T21)/Штуцери!S21,\"\")","v":""},{"$f":"IF(H153=\"\",\"\",IF(IF(Штуцери!J21=List!$G$2,AND(Розрахунок!G153<=1,Розрахунок!H153<=0.1),AND(Розрахунок!G153<=0.6,Розрахунок!H153<=0.1))=TRUE,\"Виконується\",\"Не виконується\"))","v":""},{"$f":"IF(Корпус!$C$11*(Розрахунок!F153+2*Розрахунок!E153)/(20*Штуцери!K21*Штуцери!X21-Корпус!$C$11/10)>D153,\"Умови міцності не задовільняються\",Корпус!$C$11*(Розрахунок!F153+2*Розрахунок!E153)/(20*Штуцери!K21*Штуцери!X21-Корпус!$C$11/10))","v":{"$error":"#DIV/0!"}}]
[{"$f":"CONCATENATE(Штуцери!A22,\"; \",Штуцери!J22)","v":"20; "},{"$f":"IF(Штуцери!B22=\"\",\"\",Штуцери!B22)","v":""},{"$f":"IF(Штуцери!C22=\"\",\"\",Штуцери!C22)","v":""},{"$f":"IF(Штуцери!D22=\"\",\"\",Штуцери!D22)","v":""},{"$f":"Штуцери!G22+Штуцери!H22+Штуцери!I22","v":0},{"$f":"Штуцери!R22","v":0},{"$f":"IFERROR((F154-2*E154)/Штуцери!S22,0)","v":{"v":0,"d":"0.00"}},{"$f":"IFERROR((Штуцери!U22-Штуцери!T22)/Штуцери!S22,\"\")","v":""},{"$f":"IF(H154=\"\",\"\",IF(IF(Штуцери!J22=List!$G$2,AND(Розрахунок!G154<=1,Розрахунок!H154<=0.1),AND(Розрахунок!G154<=0.6,Розрахунок!H154<=0.1))=TRUE,\"Виконується\",\"Не виконується\"))","v":""},{"$f":"IF(Корпус!$C$11*(Розрахунок!F154+2*Розрахунок!E154)/(20*Штуцери!K22*Штуцери!X22-Корпус!$C$11/10)>D154,\"Умови міцності не задовільняються\",Корпус!$C$11*(Розрахунок!F154+2*Розрахунок!E154)/(20*Штуцери!K22*Штуцери!X22-Корпус!$C$11/10))","v":{"$error":"#DIV/0!"}}]
[]
[null,{"$f":"IF(SUM(Штуцери!W3:W22)=20,\"Міцність забезпечена\",\"Міцність не забезпечена, необхідно змінити товщину стінок штуцерів\")","v":"Міцність забезпечена"}]
[]
[null,"3.2.  Визначення умов укріплення отворів"]
[]
[{"$f":"A134","v":"№\nштуцера"},"Умовний діаметр DN, мм","Зовнішній діаметр, мм","Товщина стінки, мм","Загальна прибавка до товщини стінки с, мм","Розрахунковий діаметр dp, мм",{"$f":"J134","v":"Розрахункова товщина стінки штуцера, мм"},"Розрахунковий діаметр елементу Dp, мм","Розрахунковий діаметр одиночного отвору, який не потребує додаткового укріплення d0, мм","Додаткове укріплення"]
["1; ","","","",0,0,{"$f":"J135","v":{"$error":"#DIV/0!"}},{"$f":"IF(G161=0,0,IF(Штуцери!J3=List!$G$2,formulas!$D$15,formulas!$D$16))","v":{"$error":"#DIV/0!"}},{"$f":"IFERROR(2*((D161-E161)/G161-0.8)*SQRT(H161*(Розрахунок!D161-Розрахунок!E161)),0)","v":{"v":0,"d":"0.00"}},{"$f":"IF(I161>=F161,\"не потребує\",\"потребує\")","v":"не потребує"}]
[{"$f":"A136","v":"2; "},"","","",0,0,{"$error":"#DIV/0!"},{"$f":"IF(G162=0,0,IF(Штуцери!J4=List!$G$2,formulas!$D$15,formulas!$D$16))","v":{"$error":"#DIV/0!"}},{"$f":"IFERROR(2*((D162-E162)/G162-0.8)*SQRT(H162*(Розрахунок!D162-Розрахунок!E162)),0)","v":{"v":0,"d":"0.00"}},{"$f":"IF(I162>=F162,\"не потребує\",\"потребує\")","v":"не потребує"}]
[{"$f":"A137","v":"3; "},"","","",0,0,{"$error":"#DIV/0!"},{"$f":"IF(G163=0,0,IF(Штуцери!J5=List!$G$2,formulas!$D$15,formulas!$D$16))","v":{"$error":"#DIV/0!"}},{"$f":"IFERROR(2*((D163-E163)/G163-0.8)*SQRT(H163*(Розрахунок!D163-Розрахунок!E163)),0)","v":{"v":0,"d":"0.00"}},"не потребує"]
[{"$f":"A138","v":"4; "},"","","",0,0,{"$error":"#DIV/0!"},{"$f":"IF(G164=0,0,IF(Штуцери!J6=List!$G$2,formulas!$D$15,formulas!$D$16))","v":{"$error":"#DIV/0!"}},{"$f":"IFERROR(2*((D164-E164)/G164-0.8)*SQRT(H164*(Розрахунок!D164-Розрахунок!E164)),0)","v":{"v":0,"d":"0.00"}},"не потребує"]
[{"$f":"A139","v":"5; "},"","","",0,0,{"$error":"#DIV/0!"},{"$f":"IF(G165=0,0,IF(Штуцери!J7=List!$G$2,formulas!$D$15,formulas!$D$16))","v":{"$error":"#DIV/0!"}},{"$f":"IFERROR(2*((D165-E165)/G165-0.8)*SQRT(H165*(Розрахунок!D165-Розрахунок!E165)),0)","v":{"v":0,"d":"0.00"}},"не потребує"]
[{"$f":"A140","v":"6; "},"","","",0,0,{"$error":"#DIV/0!"},{"$f":"IF(G166=0,0,IF(Штуцери!J8=List!$G$2,formulas!$D$15,formulas!$D$16))","v":{"$error":"#DIV/0!"}},{"$f":"IFERROR(2*((D166-E166)/G166-0.8)*SQRT(H166*(Розрахунок!D166-Розрахунок!E166)),0)","v":{"v":0,"d":"0.00"}},"не потребує"]
[{"$f":"A141","v":"7; "},"","","",0,0,{"$error":"#DIV/0!"},{"$f":"IF(G167=0,0,IF(Штуцери!J9=List!$G$2,formulas!$D$15,formulas!$D$16))","v":{"$error":"#DIV/0!"}},{"$f":"IFERROR(2*((D167-E167)/G167-0.8)*SQRT(H167*(Розрахунок!D167-Розрахунок!E167)),0)","v":{"v":0,"d":"0.00"}},"не потребує"]
[{"$f":"A142","v":"8; "},"","","",0,0,{"$error":"#DIV/0!"},{"$f":"IF(G168=0,0,IF(Штуцери!J10=List!$G$2,formulas!$D$15,formulas!$D$16))","v":{"$error":"#DIV/0!"}},{"$f":"IFERROR(2*((D168-E168)/G168-0.8)*SQRT(H168*(Розрахунок!D168-Розрахунок!E168)),0)","v":{"v":0,"d":"0.00"}},"не потребує"]
[{"$f":"A143","v":"9; "},"","","",0,0,{"$error":"#DIV/0!"},{"$f":"IF(G169=0,0,IF(Штуцери!J11=List!$G$2,formulas!$D$15,formulas!$D$16))","v":{"$error":"#DIV/0!"}},{"$f":"IFERROR(2*((D169-E169)/G169-0.8)*SQRT(H169*(Розрахунок!D169-Розрахунок!E169)),0)","v":{"v":0,"d":"0.00"}},"не потребує"]
[{"$f":"A144","v":"10; "},"","","",0,0,{"$error":"#DIV/0!"},{"$f":"IF(G170=0,0,IF(Штуцери!J12=List!$G$2,formulas!$D$15,formulas!$D$16))","v":{"$error":"#DIV/0!"}},{"$f":"IFERROR(2*((D170-E170)/G170-0.8)*SQRT(H170*(Розрахунок!D170-Розрахунок!E170)),0)","v":{"v":0,"d":"0.00"}},"не потребує"]
[{"$f":"A145","v":"11; "},"","","",0,0,{"$error":"#DIV/0!"},{"$f":"IF(G171=0,0,IF(Штуцери!J13=List!$G$2,formulas!$D$15,formulas!$D$16))","v":{"$error":"#DIV/0!"}},{"$f":"IFERROR(2*((D171-E171)/G171-0.8)*SQRT(H171*(Розрахунок!D171-Розрахунок!E171)),0)","v":{"v":0,"d":"0.00"}},"не потребує"]
[{"$f":"A146","v":"12; "},"","","",0,0,{"$error":"#DIV/0!"},{"$f":"IF(G172=0,0,IF(Штуцери!J14=List!$G$2,formulas!$D$15,formulas!$D$16))","v":{"$error":"#DIV/0!"}},{"$f":"IFERROR(2*((D172-E172)/G172-0.8)*SQRT(H172*(Розрахунок!D172-Розрахунок!E172)),0)","v":{"v":0,"d":"0.00"}},"не потребує"]
[{"$f":"A147","v":"13; "},"","","",0,0,{"$error":"#DIV/0!"},{"$f":"IF(G173=0,0,IF(Штуцери!J15=List!$G$2,formulas!$D$15,formulas!$D$16))","v":{"$error":"#DIV/0!"}},{"$f":"IFERROR(2*((D173-E173)/G173-0.8)*SQRT(H173*(Розрахунок!D173-Розрахунок!E173)),0)","v":{"v":0,"d":"0.00"}},"не потребує"]
[{"$f":"A148","v":"14; "},"","","",0,0,{"$error":"#DIV/0!"},{"$f":"IF(G174=0,0,IF(Штуцери!J16=List!$G$2,formulas!$D$15,formulas!$D$16))","v":{"$error":"#DIV/0!"}},{"$f":"IFERROR(2*((D174-E174)/G174-0.8)*SQRT(H174*(Розрахунок!D174-Розрахунок!E174)),0)","v":{"v":0,"d":"0.00"}},"не потребує"]
[{"$f":"A149","v":"15; "},"","","",0,0,{"$error":"#DIV/0!"},{"$f":"IF(G175=0,0,IF(Штуцери!J17=List!$G$2,formulas!$D$15,formulas!$D$16))","v":{"$error":"#DIV/0!"}},{"$f":"IFERROR(2*((D175-E175)/G175-0.8)*SQRT(H175*(Розрахунок!D175-Розрахунок!E175)),0)","v":{"v":0,"d":"0.00"}},"не потребує"]
[{"$f":"A150","v":"16; "},"","","",0,0,{"$error":"#DIV/0!"},{"$f":"IF(G176=0,0,IF(Штуцери!J18=List!$G$2,formulas!$D$15,formulas!$D$16))","v":{"$error":"#DIV/0!"}},{"$f":"IFERROR(2*((D176-E176)/G176-0.8)*SQRT(H176*(Розрахунок!D176-Розрахунок!E176)),0)","v":{"v":0,"d":"0.00"}},"не потребує"]
[{"$f":"A151","v":"17; "},"","","",0,0,{"$error":"#DIV/0!"},{"$f":"IF(G177=0,0,IF(Штуцери!J19=List!$G$2,formulas!$D$15,formulas!$D$16))","v":{"$error":"#DIV/0!"}},{"$f":"IFERROR(2*((D177-E177)/G177-0.8)*SQRT(H177*(Розрахунок!D177-Розрахунок!E177)),0)","v":{"v":0,"d":"0.00"}},"не потребує"]
[{"$f":"A152","v":"18; "},"","","",0,0,{"$error":"#DIV/0!"},{"$f":"IF(G178=0,0,IF(Штуцери!J20=List!$G$2,formulas!$D$15,formulas!$D$16))","v":{"$error":"#DIV/0!"}},{"$f":"IFERROR(2*((D178-E178)/G178-0.8)*SQRT(H178*(Розрахунок!D178-Розрахунок!E178)),0)","v":{"v":0,"d":"0.00"}},"не потребує"]
[{"$f":"A153","v":"19; "},"","","",0,0,{"$error":"#DIV/0!"},{"$f":"IF(G179=0,0,IF(Штуцери!J21=List!$G$2,formulas!$D$15,formulas!$D$16))","v":{"$error":"#DIV/0!"}},{"$f":"IFERROR(2*((D179-E179)/G179-0.8)*SQRT(H179*(Розрахунок!D179-Розрахунок!E179)),0)","v":{"v":0,"d":"0.00"}},"не потребує"]
[{"$f":"A154","v":"20; "},"","","",0,0,{"$error":"#DIV/0!"},{"$f":"IF(G180=0,0,IF(Штуцери!J22=List!$G$2,formulas!$D$15,formulas!$D$16))","v":{"$error":"#DIV/0!"}},{"$f":"IFERROR(2*((D180-E180)/G180-0.8)*SQRT(H180*(Розрахунок!D180-Розрахунок!E180)),0)","v":{"v":0,"d":"0.00"}},"не потребує"]